BEGIN:VCALENDAR
VERSION:2.0
PRODID:SchoolNow
CALSCALE:GREGORIAN
BEGIN:VEVENT
UID:309cabf6-dd8f-11ef-901f-0e956362e35d
DTSTAMP:20250128T154733Z
SUMMARY:Boys (JFK) 7th/8th Basketball v. Central Valley Academy (Blue)
LOCATION:JFK Gym
URL;VALUE=URI:https://www.uticaschools.org/departments/athletics/calendar/7
 386901/boys-jfk-7th-8th-basketball-v-central-valley-academy-blue
DTSTART:20250203T210000Z
DTEND:20250203T220000Z
END:VEVENT
END:VCALENDAR
