BEGIN:VCALENDAR
VERSION:2.0
PRODID:SchoolNow
CALSCALE:GREGORIAN
BEGIN:VEVENT
UID:2479d3b2-1f1a-11f1-a818-0a58a9feac02
DTSTAMP:20260330T195547Z
SUMMARY:Algebra II REGENTS EXAM
URL;VALUE=URI:https://www.uticaschools.org/departments/guidance-counseling-
 services/calendar/8915520/algebra-ii-regents-exam
DTSTART:20260610T120000Z
DTEND:20260610T140000Z
END:VEVENT
END:VCALENDAR
