BEGIN:VCALENDAR
VERSION:2.0
PRODID:SchoolNow
CALSCALE:GREGORIAN
BEGIN:VEVENT
UID:2479daec-1f1a-11f1-8efa-0a58a9feac02
DTSTAMP:20260330T195547Z
SUMMARY:Geometry REGENTS EXAM
URL;VALUE=URI:https://www.uticaschools.org/departments/guidance-counseling-
 services/calendar/8915528/geometry-regents-exam
DTSTART:20260623T160000Z
DTEND:20260623T180000Z
END:VEVENT
END:VCALENDAR
