BEGIN:VCALENDAR
VERSION:2.0
PRODID:SchoolNow
CALSCALE:GREGORIAN
BEGIN:VEVENT
UID:4fdab9a4-2dfc-11f1-94ec-0a58a9feac02
DTSTAMP:20260423T080010Z
SUMMARY:NY State Testing ELA Grades 5 & 6
URL;VALUE=URI:https://www.uticaschools.org/schools/jefferson/calendar/89633
 96/ny-state-testing-ela-grades-5-6
DTSTART;VALUE=DATE:20260416
DTEND;VALUE=DATE:20260417
END:VEVENT
END:VCALENDAR
